BEGIN:VCALENDAR
VERSION:2.0
PRODID:-//Sussex Mindfulness Centre - ECPv6.15.20//NONSGML v1.0//EN
CALSCALE:GREGORIAN
METHOD:PUBLISH
X-WR-CALNAME:Sussex Mindfulness Centre
X-ORIGINAL-URL:https://sussexmindfulnesscentre.nhs.uk
X-WR-CALDESC:Events for Sussex Mindfulness Centre
REFRESH-INTERVAL;VALUE=DURATION:PT1H
X-Robots-Tag:noindex
X-PUBLISHED-TTL:PT1H
BEGIN:VTIMEZONE
TZID:Europe/London
BEGIN:DAYLIGHT
TZOFFSETFROM:+0000
TZOFFSETTO:+0100
TZNAME:BST
DTSTART:20250330T010000
END:DAYLIGHT
BEGIN:STANDARD
TZOFFSETFROM:+0100
TZOFFSETTO:+0000
TZNAME:GMT
DTSTART:20251026T010000
END:STANDARD
BEGIN:DAYLIGHT
TZOFFSETFROM:+0000
TZOFFSETTO:+0100
TZNAME:BST
DTSTART:20260329T010000
END:DAYLIGHT
BEGIN:STANDARD
TZOFFSETFROM:+0100
TZOFFSETTO:+0000
TZNAME:GMT
DTSTART:20261025T010000
END:STANDARD
BEGIN:DAYLIGHT
TZOFFSETFROM:+0000
TZOFFSETTO:+0100
TZNAME:BST
DTSTART:20270328T010000
END:DAYLIGHT
BEGIN:STANDARD
TZOFFSETFROM:+0100
TZOFFSETTO:+0000
TZNAME:GMT
DTSTART:20271031T010000
END:STANDARD
END:VTIMEZONE
BEGIN:VEVENT
DTSTART;TZID=Europe/London:20260425T093000
DTEND;TZID=Europe/London:20260425T120000
DTSTAMP:20260425T014252
CREATED:20251029T114806Z
LAST-MODIFIED:20260421T160310Z
UID:10002939-1777109400-1777118400@sussexmindfulnesscentre.nhs.uk
SUMMARY:Mindful Self-Compassion course: eight weeks on Saturday mornings
DESCRIPTION:Our eight-week Mindful Self-Compassion course teaches core principles and practices that enable participants to respond to challenges and difficult emotions with care and understanding. \n\n\n\nOverview​\n\n\n\nResearch has shown that self-compassion greatly enhances emotional wellbeing. It boosts happiness\, reduces anxiety and depression\, and can even help maintain healthy lifestyle habits such as diet and exercise. Being both mindful and compassionate leads to greater ease and wellbeing in our daily lives. Find out more about our Mindful Self-Compassion course here. \n\n\n\nWho is this course for?\n\n\n\nThis course is designed for the general public\, you do not need to have attended a mindfulness course before. Please note\, this courses may not be suitable for everyone. If you are experiencing mental health issues\, you should talk to your GP about being referred to the appropriate clinical service. \n\n\n\nWhen? \n\n\n\nSaturday mornings 09.30 to 12.00. There is an orientation session on 18 April. The eight-week course starts on 25 April and runs until 13 June 2026 without a break. \n\n\n\nWhere?\n\n\n\nOnline. You will get Zoom log-in details when your place is confirmed. \n\n\n\nThe format of the course?\n\n\n\n\nTwo-and-a-half-hour orientation session.\n\n\n\nEight further weekly two-and-a-half-hour classes including mindful self-compassion practices\, discussion and exercises.\n\n\n\nThe course follows the programme outlined in the Mindful Self-Compassion Workbook by Christopher Germer and Kristin Neff. It is recommended that you buy this book to accompany the course\, but it’s not essential. \n\n\n\nDaily meditation home practice of between 20 to 40 minutes.\n\n\n\n\nFacilitator \n\n\n\n\n\nPaul Johanson\n\n\n\n\n\n\n\n\nPaul Johanson is a social worker\, mindful self-compassion teacher and cognitive analytic therapist in private practice. He has worked in many areas of health and social care\, including criminal justice\, substance misuse\, serious mental illness\, psychological therapies\, cancer and palliative care. He has worked as a strategic leader for the NHS in implementing national programmes in mental health\, psychological therapies and patient experience. Paul is a long-term Buddhist practitioner\, beginning his journey nearly 40 years ago in the Rinzai Zen Buddhist tradition\, and has been a student in the Nyingma school of Tibetan Buddhism since 1991. He was the Buddhist Chaplain at the University of Sussex from 2013 to 2025. \n\n\n\n\n\n\n \n\n\n\nHow to book\n\n\n\nPlease note\, we ask all those who book a place on this course to fill in an application form here that will be sent to the facilitator. If you haven’t already\, please head here to the fill in the form. \n\n\n\n\n\nThe cost of the eight-week course is £300.  We also offer a choice of two other options: \n\n\n\n\n£325 – Supporting rate. You can support other participants to attend who are on a low income.\n\n\n\n£275 – Supported rate\, if you are on a low income and can’t afford the general admission price.\n\n\n\n\nAs part of our equity\, diversity and inclusion policy\, we also have a limited number of concessionary tickets available on a first-come\, first-served basis. These are for people who are facing acute financial hardship and who would otherwise not be able to attend. To request a concession ticket please email spft.smc@nhs.net. \n\n\n\nWe are striving to make our courses accessible for all. If you have additional needs or learning styles\, please let us know so we can support you.   \n\n\n\nYou can book here below
URL:https://sussexmindfulnesscentre.nhs.uk/event/mindful-self-compassion-course-saturday-mornings/
LOCATION:Online
CATEGORIES:Course,Mindful Self-Compassion
ATTACH;FMTTYPE=image/jpeg:https://sussexmindfulnesscentre.nhs.uk/wp-content/uploads/2023/12/compassion_03-scaled.webp
END:VEVENT
END:VCALENDAR