BEGIN:VCALENDAR
VERSION:2.0
PRODID:-//Sussex Mindfulness Centre - ECPv6.15.20//NONSGML v1.0//EN
CALSCALE:GREGORIAN
METHOD:PUBLISH
X-ORIGINAL-URL:https://sussexmindfulnesscentre.nhs.uk
X-WR-CALDESC:Events for Sussex Mindfulness Centre
REFRESH-INTERVAL;VALUE=DURATION:PT1H
X-Robots-Tag:noindex
X-PUBLISHED-TTL:PT1H
BEGIN:VTIMEZONE
TZID:Europe/London
BEGIN:DAYLIGHT
TZOFFSETFROM:+0000
TZOFFSETTO:+0100
TZNAME:BST
DTSTART:20250330T010000
END:DAYLIGHT
BEGIN:STANDARD
TZOFFSETFROM:+0100
TZOFFSETTO:+0000
TZNAME:GMT
DTSTART:20251026T010000
END:STANDARD
BEGIN:DAYLIGHT
TZOFFSETFROM:+0000
TZOFFSETTO:+0100
TZNAME:BST
DTSTART:20260329T010000
END:DAYLIGHT
BEGIN:STANDARD
TZOFFSETFROM:+0100
TZOFFSETTO:+0000
TZNAME:GMT
DTSTART:20261025T010000
END:STANDARD
BEGIN:DAYLIGHT
TZOFFSETFROM:+0000
TZOFFSETTO:+0100
TZNAME:BST
DTSTART:20270328T010000
END:DAYLIGHT
BEGIN:STANDARD
TZOFFSETFROM:+0100
TZOFFSETTO:+0000
TZNAME:GMT
DTSTART:20271031T010000
END:STANDARD
END:VTIMEZONE
BEGIN:VEVENT
DTSTART;TZID=Europe/London:20260505T130000
DTEND;TZID=Europe/London:20260505T140000
DTSTAMP:20260424T163604
CREATED:20260218T134808Z
LAST-MODIFIED:20260218T134810Z
UID:10002986-1777986000-1777989600@sussexmindfulnesscentre.nhs.uk
SUMMARY:Moment to pause - Free lunchtime mindfulness session
DESCRIPTION:Work and life can feel so busy that you don’t have a spare moment to think\, plan or just experience the moment. Join a one-hour lunchtime session to experience how mindfulness can bring space and new perspectives. \n\n\n\nOverview\n\n\n\nMindfulness offers a chance to pause. It can help you manage stress and difficulties\, reflect on what’s most important to you and learn how to take better care of yourself. \n\n\n\nThis one-hour lunch-time session will give you a pause in the day to experience the benefits of practicing mindfulness. You will be guided through the basic principles of mindfulness and will sample a range of different practices. Over time these practices can help you build the capacity to experience life differently. Mindfulness can work for you as an individual and for your team or service. \n\n\n\nWho is it for?\n\n\n\nThese sessions are for you if you are: \n\n\n\n\nWould like to take a moment to pause in the middle of the day.\n\n\n\nAre returning to mindfulness and want a refresh / reminder about what is involved.\n\n\n\nCompletely new to mindfulness and meditation and want to try it out.\n\n\n\n\nWhere?\n\n\n\nOnline on Zoom \n\n\n\nFor all mindfulness work\, the connection between people in the group is central to the discovery and learning process. Please ensure the camera on your device is turned on during the session and try your best to join from a quiet\, private space\, if possible. We’re aware that the session is during lunchtime. Feel free to bring something to eat during the discussion if you’d like.
URL:https://sussexmindfulnesscentre.nhs.uk/event/moment-to-pause-free-lunchtime-mindfulness-session-10/
LOCATION:Online
CATEGORIES:Beginners,Introduction to mindfulness,Workplace
ATTACH;FMTTYPE=image/jpeg:https://sussexmindfulnesscentre.nhs.uk/wp-content/uploads/2023/10/learning_orange-jpg.webp
END:VEVENT
END:VCALENDAR