BEGIN:VCALENDAR
VERSION:2.0
PRODID:-//Sussex Mindfulness Centre - ECPv6.15.20//NONSGML v1.0//EN
CALSCALE:GREGORIAN
METHOD:PUBLISH
X-ORIGINAL-URL:https://sussexmindfulnesscentre.nhs.uk
X-WR-CALDESC:Events for Sussex Mindfulness Centre
REFRESH-INTERVAL;VALUE=DURATION:PT1H
X-Robots-Tag:noindex
X-PUBLISHED-TTL:PT1H
BEGIN:VTIMEZONE
TZID:Europe/London
BEGIN:DAYLIGHT
TZOFFSETFROM:+0000
TZOFFSETTO:+0100
TZNAME:BST
DTSTART:20230326T010000
END:DAYLIGHT
BEGIN:STANDARD
TZOFFSETFROM:+0100
TZOFFSETTO:+0000
TZNAME:GMT
DTSTART:20231029T010000
END:STANDARD
BEGIN:DAYLIGHT
TZOFFSETFROM:+0000
TZOFFSETTO:+0100
TZNAME:BST
DTSTART:20240331T010000
END:DAYLIGHT
BEGIN:STANDARD
TZOFFSETFROM:+0100
TZOFFSETTO:+0000
TZNAME:GMT
DTSTART:20241027T010000
END:STANDARD
BEGIN:DAYLIGHT
TZOFFSETFROM:+0000
TZOFFSETTO:+0100
TZNAME:BST
DTSTART:20250330T010000
END:DAYLIGHT
BEGIN:STANDARD
TZOFFSETFROM:+0100
TZOFFSETTO:+0000
TZNAME:GMT
DTSTART:20251026T010000
END:STANDARD
BEGIN:DAYLIGHT
TZOFFSETFROM:+0000
TZOFFSETTO:+0100
TZNAME:BST
DTSTART:20260329T010000
END:DAYLIGHT
BEGIN:STANDARD
TZOFFSETFROM:+0100
TZOFFSETTO:+0000
TZNAME:GMT
DTSTART:20261025T010000
END:STANDARD
END:VTIMEZONE
BEGIN:VEVENT
DTSTART;TZID=Europe/London:20250501T130000
DTEND;TZID=Europe/London:20250501T140000
DTSTAMP:20260424T180839
CREATED:20241206T150408Z
LAST-MODIFIED:20250429T142255Z
UID:10002756-1746104400-1746108000@sussexmindfulnesscentre.nhs.uk
SUMMARY:Moment to pause - Free lunchtime mindfulness session
DESCRIPTION:Work and life can feel so busy that you don’t have a spare moment to think\, plan or just experience the moment. Join a one-hour lunchtime session to experience how mindfulness can bring space and new perspectives. \n\n\n\nOverview\n\n\n\nMindfulness offers a chance to pause. It can help you manage stress and difficulties\, reflect on what’s most important to you and learn how to take better care of yourself. \n\n\n\nThis one-hour lunch-time session will give you a pause in the day to experience the benefits of practicing mindfulness. You will be guided through the basic principles of mindfulness and will sample a range of different practices. Over time these practices can help you build the capacity to experience life differently. Mindfulness can work for you as an individual and for your team or service. \n\n\n\nWe’re aware that the session is during lunchtime.  Feel free to bring something to eat during the discussion if you’d like. \n\n\n\nWho is it for?\n\n\n\nThese sessions are for you if you are: \n\n\n\n\nWould like to take a moment to pause in the middle of the day.\n\n\n\nAre returning to mindfulness and want a refresh / reminder about what is involved.\n\n\n\nCompletely new to mindfulness and meditation and want to try it out.\n\n\n\n\nWhere?\n\n\n\nOnline on Zoom \n\n\n\nFor all mindfulness work\, the connection between people in the group is central to the discovery and learning process. Please ensure the camera on your device is turned on during the session and try your best to join from a quiet\, private space\, if possible. Thank you.
URL:https://sussexmindfulnesscentre.nhs.uk/event/moment-to-pause-free-online-lunchtime-mindfulness-session-15/
LOCATION:Online
CATEGORIES:Beginners,Introduction to mindfulness,Workplace
ATTACH;FMTTYPE=image/jpeg:https://sussexmindfulnesscentre.nhs.uk/wp-content/uploads/2023/10/learning_orange-jpg.webp
END:VEVENT
BEGIN:VEVENT
DTSTART;TZID=Europe/London:20250407T130000
DTEND;TZID=Europe/London:20250407T140000
DTSTAMP:20260424T180839
CREATED:20241206T150216Z
LAST-MODIFIED:20250402T114930Z
UID:10002755-1744030800-1744034400@sussexmindfulnesscentre.nhs.uk
SUMMARY:Free lunchtime mindfulness taster session
DESCRIPTION:Work and life can feel so busy that you don’t have a spare moment to think\, plan or just experience the moment. Join a one-hour lunchtime session to experience how mindfulness can bring space and new perspectives. \n\n\n\nOverview\n\n\n\nMindfulness offers a chance to pause. It can help you manage stress and difficulties\, reflect on what’s most important to you and learn how to take better care of yourself. \n\n\n\nThis one-hour lunch-time session will give you a pause in the day to experience the benefits of practicing mindfulness. You will be guided through the basic principles of mindfulness and will sample a range of different practices. Over time these practices can help you build the capacity to experience life differently. Mindfulness can work for you as an individual and for your team or service.We’re aware that the session is during lunchtime. Feel free to bring something to eat during the discussion part if you’d like. \n\n\n\nWhere?\n\n\n\nOnline\, on Zoom.  \n\n\n\nFor all mindfulness work\, the connection between people in the group is central to the discovery and learning process. Please ensure the camera on your device is turned on during the session and try your best to join from a quiet\, private space. Thank you.
URL:https://sussexmindfulnesscentre.nhs.uk/event/moment-to-pause-free-online-lunchtime-mindfulness-session-14/
LOCATION:Online
CATEGORIES:Beginners,Introduction to mindfulness,Workplace
ATTACH;FMTTYPE=image/jpeg:https://sussexmindfulnesscentre.nhs.uk/wp-content/uploads/2023/10/learning_orange-jpg.webp
END:VEVENT
BEGIN:VEVENT
DTSTART;TZID=Europe/London:20250305T130000
DTEND;TZID=Europe/London:20250305T140000
DTSTAMP:20260424T180839
CREATED:20241206T150141Z
LAST-MODIFIED:20250221T103417Z
UID:10002754-1741179600-1741183200@sussexmindfulnesscentre.nhs.uk
SUMMARY:Free lunchtime mindfulness taster session
DESCRIPTION:Work and life can feel so busy that you don’t have a spare moment to think\, plan or just experience the moment. Join a one-hour lunchtime session to experience how mindfulness can bring space and new perspectives. \n\n\n\nOverview\n\n\n\nMindfulness offers a chance to pause. It can help you manage stress and difficulties\, reflect on what’s most important to you and learn how to take better care of yourself. \n\n\n\nThis one-hour lunch-time session will give you a pause in the day to experience the benefits of practicing mindfulness. You will be guided through the basic principles of mindfulness and will sample a range of different practices. Over time these practices can help you build the capacity to experience life differently. Mindfulness can work for you as an individual and for your team or service.Bring your lunch for the mindfulness eating exercise. \n\n\n\nFor all mindfulness work\, the connection between people in the group is central to the discovery and learning process. Please ensure the camera on your device is turned on during the session and try your best to join from a quiet\, private space. Thank you.
URL:https://sussexmindfulnesscentre.nhs.uk/event/moment-to-pause-free-online-lunchtime-mindfulness-session-13/
LOCATION:Online
CATEGORIES:Beginners,Introduction to mindfulness,Workplace
ATTACH;FMTTYPE=image/jpeg:https://sussexmindfulnesscentre.nhs.uk/wp-content/uploads/2023/10/learning_orange-jpg.webp
END:VEVENT
BEGIN:VEVENT
DTSTART;TZID=Europe/London:20250211T130000
DTEND;TZID=Europe/London:20250211T140000
DTSTAMP:20260424T180839
CREATED:20241206T151640Z
LAST-MODIFIED:20250416T092915Z
UID:10002758-1739278800-1739282400@sussexmindfulnesscentre.nhs.uk
SUMMARY:Free lunchtime mindfulness taster session
DESCRIPTION:Work and life can feel so busy that you don’t have a spare moment to think\, plan or just experience the moment. Join a one-hour lunchtime session to experience how mindfulness can bring space and new perspectives. \n\n\n\nOverview\n\n\n\nMindfulness offers a chance to pause. It can help you manage stress and difficulties\, reflect on what’s most important to you and learn how to take better care of yourself. \n\n\n\nThis one-hour lunch-time session will give you a pause in the day to experience the benefits of practicing mindfulness. You will be guided through the basic principles of mindfulness and will sample a range of different practices. Over time these practices can help you build the capacity to experience life differently. Mindfulness can work for you as an individual and for your team or service.Bring your lunch for the mindfulness eating exercise.
URL:https://sussexmindfulnesscentre.nhs.uk/event/moment-to-pause-free-online-lunchtime-mindfulness-session-17/
LOCATION:Online
CATEGORIES:Beginners,Introduction to mindfulness,Workplace
ATTACH;FMTTYPE=image/jpeg:https://sussexmindfulnesscentre.nhs.uk/wp-content/uploads/2023/10/learning_orange-jpg.webp
END:VEVENT
BEGIN:VEVENT
DTSTART;TZID=Europe/London:20241212T130000
DTEND;TZID=Europe/London:20241212T140000
DTSTAMP:20260424T180839
CREATED:20240820T153228Z
LAST-MODIFIED:20241024T104952Z
UID:10002721-1734008400-1734012000@sussexmindfulnesscentre.nhs.uk
SUMMARY:Moment to pause - Free online lunchtime mindfulness session
DESCRIPTION:Work and life can feel so busy that you don’t have a spare moment to think\, plan or just experience the moment. Join a one-hour lunchtime session to experience how mindfulness can bring space and new perspectives. \n\n\n\nOverview\n\n\n\nMindfulness offers a chance to pause. It can help you manage stress and difficulties\, reflect on what’s most important to you and learn how to take better care of yourself. \n\n\n\nThis one-hour lunch-time session will give you a pause in the day to experience the benefits of practicing mindfulness. You will be guided through the basic principles of mindfulness and will sample a range of different practices. Over time these practices can help you build the capacity to experience life differently. Mindfulness can work for you as an individual and for your team or service.Bring your lunch for the mindfulness eating exercise.
URL:https://sussexmindfulnesscentre.nhs.uk/event/free-online-lunchtime-mindfulness-session/
LOCATION:Online
CATEGORIES:Beginners,Introduction to mindfulness,Workplace
ATTACH;FMTTYPE=image/jpeg:https://sussexmindfulnesscentre.nhs.uk/wp-content/uploads/2023/10/learning_orange-jpg.webp
END:VEVENT
BEGIN:VEVENT
DTSTART;TZID=Europe/London:20241120T130000
DTEND;TZID=Europe/London:20241120T140000
DTSTAMP:20260424T180839
CREATED:20240820T152919Z
LAST-MODIFIED:20240820T152920Z
UID:10002720-1732107600-1732111200@sussexmindfulnesscentre.nhs.uk
SUMMARY:Moment to pause - Free online lunchtime mindfulness session
DESCRIPTION:Work and life can feel so busy that you don’t have a spare moment to think\, plan or just experience the moment. Join a one-hour lunchtime session to experience how mindfulness can bring space and new perspectives. \n\n\n\nOverview\n\n\n\nMindfulness offers a chance to pause. It can help you manage stress and difficulties\, reflect on what’s most important to you and learn how to take better care of yourself. \n\n\n\nThis one-hour lunch-time session will give you a pause in the day to experience the benefits of practicing mindfulness. You will be guided through the basic principles of mindfulness and will sample a range of different practices. Over time these practices can help you build the capacity to experience life differently. Mindfulness can work for you as an individual and for your team or service.Bring your lunch for the mindfulness eating exercise.
URL:https://sussexmindfulnesscentre.nhs.uk/event/moment-to-pause-free-online-lunchtime-mindfulness-session-10/
LOCATION:Online
CATEGORIES:Beginners,Introduction to mindfulness,Workplace
ATTACH;FMTTYPE=image/jpeg:https://sussexmindfulnesscentre.nhs.uk/wp-content/uploads/2023/10/learning_orange-jpg.webp
END:VEVENT
BEGIN:VEVENT
DTSTART;TZID=Europe/London:20241017T130000
DTEND;TZID=Europe/London:20241017T140000
DTSTAMP:20260424T180839
CREATED:20240820T151223Z
LAST-MODIFIED:20240910T133930Z
UID:10002718-1729170000-1729173600@sussexmindfulnesscentre.nhs.uk
SUMMARY:Moment to pause - Free online lunchtime mindfulness session
DESCRIPTION:Work and life can feel so busy that you don’t have a spare moment to think\, plan or just experience the moment. Join a one-hour lunchtime session to experience how mindfulness can bring space and new perspectives. \n\n\n\nOverview\n\n\n\nMindfulness offers a chance to pause. It can help you manage stress and difficulties\, reflect on what’s most important to you and learn how to take better care of yourself. \n\n\n\nThis one-hour lunch-time session will give you a pause in the day to experience the benefits of practicing mindfulness. You will be guided through the basic principles of mindfulness and will sample a range of different practices. Over time these practices can help you build the capacity to experience life differently. Mindfulness can work for you as an individual and for your team or service.Bring your lunch for the mindfulness eating exercise.
URL:https://sussexmindfulnesscentre.nhs.uk/event/moment-to-pause-free-online-lunchtime-mindfulness-session-8/
LOCATION:Online
CATEGORIES:Beginners,Introduction to mindfulness,Workplace
ATTACH;FMTTYPE=image/jpeg:https://sussexmindfulnesscentre.nhs.uk/wp-content/uploads/2024/09/learning_green-jpg.avif
END:VEVENT
BEGIN:VEVENT
DTSTART;TZID=Europe/London:20240917T130000
DTEND;TZID=Europe/London:20240917T140000
DTSTAMP:20260424T180839
CREATED:20240820T152122Z
LAST-MODIFIED:20240820T160418Z
UID:10002719-1726578000-1726581600@sussexmindfulnesscentre.nhs.uk
SUMMARY:Moment to pause - Free online lunchtime mindfulness session
DESCRIPTION:Work and life can feel so busy that you don’t have a spare moment to think\, plan or just experience the moment. Join a one-hour lunchtime session to experience how mindfulness can bring space and new perspectives. \n\n\n\nOverview\n\n\n\nMindfulness offers a chance to pause. It can help you manage stress and difficulties\, reflect on what’s most important to you and learn how to take better care of yourself. \n\n\n\nThis one-hour lunch-time session will give you a pause in the day to experience the benefits of practicing mindfulness. You will be guided through the basic principles of mindfulness and will sample a range of different practices. Over time these practices can help you build the capacity to experience life differently. Mindfulness can work for you as an individual and for your team or service.Bring your lunch for the mindfulness eating exercise.
URL:https://sussexmindfulnesscentre.nhs.uk/event/moment-to-pause-free-online-lunchtime-mindfulness-session-9/
LOCATION:Online
CATEGORIES:Beginners,Introduction to mindfulness,Workplace
ATTACH;FMTTYPE=image/jpeg:https://sussexmindfulnesscentre.nhs.uk/wp-content/uploads/2023/10/learning_orange-jpg.webp
END:VEVENT
BEGIN:VEVENT
DTSTART;TZID=Europe/London:20240730T130000
DTEND;TZID=Europe/London:20240730T140000
DTSTAMP:20260424T180839
CREATED:20240411T155636Z
LAST-MODIFIED:20240808T121901Z
UID:10002639-1722344400-1722348000@sussexmindfulnesscentre.nhs.uk
SUMMARY:Moment to pause - Free online lunchtime mindfulness session
DESCRIPTION:Work and life can feel so busy that you don’t have a spare moment to think\, plan or just experience the moment. Join a one-hour lunchtime session to experience how mindfulness can bring space and new perspectives. \n\n\n\nOverview\n\n\n\nMindfulness offers a chance to pause. It can help you manage stress and difficulties\, reflect on what’s most important to you and learn how to take better care of yourself. \n\n\n\nThis free\, one-hour lunch-time session will give you a pause in the day to experience the benefits of practicing mindfulness. You will be guided through the basic principles of mindfulness and will sample a range of different practices. Over time these practices can help you build the capacity to experience life differently. Mindfulness can work for you as an individual and for your team or service.Bring your lunch for the mindfulness eating exercise. \n\n\n\nFacilitator\n\n\n\n\n\n\n\nRobert Marx is a clinical psychologist and psychotherapist and has been teaching mindfulness to patients and staff in the NHS for 18 years. He teaches Mindfulness Based Cognitive Therapy and Mindful Self-Compassion. He has been practising meditation for over 30 years. He is passionate about building compassionate cultures in organisations and about integrating relational and mindful approaches to work.
URL:https://sussexmindfulnesscentre.nhs.uk/event/moment-to-pause-free-online-lunchtime-mindfulness-session-6/
LOCATION:Online
CATEGORIES:Beginners,Introduction to mindfulness,Workplace
ATTACH;FMTTYPE=image/jpeg:https://sussexmindfulnesscentre.nhs.uk/wp-content/uploads/2023/10/learning_orange-jpg.webp
END:VEVENT
BEGIN:VEVENT
DTSTART;TZID=Europe/London:20240627T130000
DTEND;TZID=Europe/London:20240627T140000
DTSTAMP:20260424T180839
CREATED:20240411T155423Z
LAST-MODIFIED:20240411T155425Z
UID:10002638-1719493200-1719496800@sussexmindfulnesscentre.nhs.uk
SUMMARY:Moment to pause - Free online lunchtime mindfulness session
DESCRIPTION:Work and life can feel so busy that you don’t have a spare moment to think\, plan or just experience the moment. Join a one-hour lunchtime session to experience how mindfulness can bring space and new perspectives. \n\n\n\nOverview\n\n\n\nMindfulness offers a chance to pause. It can help you manage stress and difficulties\, reflect on what’s most important to you and learn how to take better care of yourself. \n\n\n\nThis free\, one-hour lunch-time session will give you a pause in the day to experience the benefits of practicing mindfulness. You will be guided through the basic principles of mindfulness and will sample a range of different practices. Over time these practices can help you build the capacity to experience life differently. Mindfulness can work for you as an individual and for your team or service.Bring your lunch for the mindfulness eating exercise. \n\n\n\nFacilitator\n\n\n\n\n\n\n\nRobert Marx is a clinical psychologist and psychotherapist and has been teaching mindfulness to patients and staff in the NHS for 18 years. He teaches Mindfulness Based Cognitive Therapy and Mindful Self-Compassion. He has been practising meditation for over 30 years. He is passionate about building compassionate cultures in organisations and about integrating relational and mindful approaches to work.
URL:https://sussexmindfulnesscentre.nhs.uk/event/moment-to-pause-free-online-lunchtime-mindfulness-session-5/
LOCATION:Online
CATEGORIES:Beginners,Introduction to mindfulness,Workplace
ATTACH;FMTTYPE=image/jpeg:https://sussexmindfulnesscentre.nhs.uk/wp-content/uploads/2023/10/learning_orange-jpg.webp
END:VEVENT
BEGIN:VEVENT
DTSTART;TZID=Europe/London:20240521T130000
DTEND;TZID=Europe/London:20240521T140000
DTSTAMP:20260424T180839
CREATED:20240411T155134Z
LAST-MODIFIED:20240411T155136Z
UID:10002637-1716296400-1716300000@sussexmindfulnesscentre.nhs.uk
SUMMARY:Moment to pause - Free online lunchtime mindfulness session
DESCRIPTION:Work and life can feel so busy that you don’t have a spare moment to think\, plan or just experience the moment. Join a one-hour lunchtime session to experience how mindfulness can bring space and new perspectives. \n\n\n\nOverview\n\n\n\nMindfulness offers a chance to pause. It can help you manage stress and difficulties\, reflect on what’s most important to you and learn how to take better care of yourself. \n\n\n\nThis free\, one-hour lunch-time session will give you a pause in the day to experience the benefits of practicing mindfulness. You will be guided through the basic principles of mindfulness and will sample a range of different practices. Over time these practices can help you build the capacity to experience life differently. Mindfulness can work for you as an individual and for your team or service.Bring your lunch for the mindfulness eating exercise. \n\n\n\nFacilitator\n\n\n\n\n\n\n\nRobert Marx is a clinical psychologist and psychotherapist and has been teaching mindfulness to patients and staff in the NHS for 18 years. He teaches Mindfulness Based Cognitive Therapy and Mindful Self-Compassion. He has been practising meditation for over 30 years. He is passionate about building compassionate cultures in organisations and about integrating relational and mindful approaches to work.
URL:https://sussexmindfulnesscentre.nhs.uk/event/moment-to-pause-free-online-lunchtime-mindfulness-session-4/
LOCATION:Online
CATEGORIES:Beginners,Introduction to mindfulness,Workplace
ATTACH;FMTTYPE=image/jpeg:https://sussexmindfulnesscentre.nhs.uk/wp-content/uploads/2023/10/learning_orange-jpg.webp
END:VEVENT
BEGIN:VEVENT
DTSTART;TZID=Europe/London:20240318T130000
DTEND;TZID=Europe/London:20240318T140000
DTSTAMP:20260424T180839
CREATED:20231031T154358Z
LAST-MODIFIED:20231106T115622Z
UID:10001779-1710766800-1710770400@sussexmindfulnesscentre.nhs.uk
SUMMARY:Moment to pause - Free online lunchtime mindfulness session
DESCRIPTION:Work and life can feel so busy that you don’t have a spare moment to think\, plan or just experience the moment. Join a one-hour lunchtime session to experience how mindfulness can bring space and new perspectives. \n\n\n\nOverview\n\n\n\nMindfulness offers a chance to pause. It can help you manage stress and difficulties\, reflect on what’s most important to you and learn how to take better care of yourself. \n\n\n\nThis free\, one-hour lunch-time session will give you a pause in the day to experience the benefits of practicing mindfulness. You will be guided through the basic principles of mindfulness and will sample a range of different practices. Over time these practices can help you build the capacity to experience life differently. Mindfulness can work for you as an individual and for your team or service.Bring your lunch for the mindfulness eating exercise. \n\n\n\nFacilitator\n\n\n\n\n\n\n\nRobert Marx is a clinical psychologist and psychotherapist and has been teaching mindfulness to patients and staff in the NHS for 18 years. He teaches Mindfulness Based Cognitive Therapy and Mindful Self-Compassion. He has been practising meditation for over 30 years. He is passionate about building compassionate cultures in organisations and about integrating relational and mindful approaches to work.
URL:https://sussexmindfulnesscentre.nhs.uk/event/moment-to-pause-free-online-lunchtime-mindfulness-session-3/
LOCATION:Online
CATEGORIES:Beginners,Introduction to mindfulness,Workplace
ATTACH;FMTTYPE=image/jpeg:https://sussexmindfulnesscentre.nhs.uk/wp-content/uploads/2023/10/learning_orange-jpg.webp
END:VEVENT
BEGIN:VEVENT
DTSTART;TZID=Europe/London:20240222T130000
DTEND;TZID=Europe/London:20240222T140000
DTSTAMP:20260424T180839
CREATED:20231031T154101Z
LAST-MODIFIED:20231031T155950Z
UID:10001778-1708606800-1708610400@sussexmindfulnesscentre.nhs.uk
SUMMARY:Moment to pause - Free online lunchtime mindfulness session
DESCRIPTION:Work and life can feel so busy that you don’t have a spare moment to think\, plan or just experience the moment. Join a one-hour lunchtime session to experience how mindfulness can bring space and new perspectives. \n\n\n\nOverview\n\n\n\nMindfulness offers a chance to pause. It can help you manage stress and difficulties\, reflect on what’s most important to you and learn how to take better care of yourself. \n\n\n\nThis free\, one-hour lunch-time session will give you a pause in the day to experience the benefits of practicing mindfulness. You will be guided through the basic principles of mindfulness and will sample a range of different practices. Over time these practices can help you build the capacity to experience life differently. Mindfulness can work for you as an individual and for your team or service.Bring your lunch for the mindfulness eating exercise. \n\n\n\nFacilitator\n\n\n\n\n\n\n\nRobert Marx is a clinical psychologist and psychotherapist and has been teaching mindfulness to patients and staff in the NHS for 18 years. He teaches Mindfulness Based Cognitive Therapy and Mindful Self-Compassion. He has been practising meditation for over 30 years. He is passionate about building compassionate cultures in organisations and about integrating relational and mindful approaches to work.
URL:https://sussexmindfulnesscentre.nhs.uk/event/moment-to-pause-free-online-lunchtime-mindfulness-session-2/
LOCATION:Online
CATEGORIES:Beginners,Introduction to mindfulness,Workplace
ATTACH;FMTTYPE=image/jpeg:https://sussexmindfulnesscentre.nhs.uk/wp-content/uploads/2023/10/learning_orange-jpg.webp
END:VEVENT
BEGIN:VEVENT
DTSTART;TZID=Europe/London:20240130T130000
DTEND;TZID=Europe/London:20240130T140000
DTSTAMP:20260424T180839
CREATED:20231017T092706Z
LAST-MODIFIED:20240115T094015Z
UID:10001776-1706619600-1706623200@sussexmindfulnesscentre.nhs.uk
SUMMARY:Moment to pause - Free online lunchtime mindfulness session
DESCRIPTION:Work and life can feel so busy that you don’t have a spare moment to think\, plan or just experience the moment. Join a one-hour lunchtime session to experience how mindfulness can bring space and new perspectives. \n\n\n\nOverview\n\n\n\nMindfulness offers a chance to pause. It can help you manage stress and difficulties\, reflect on what’s most important to you and learn how to take better care of yourself. \n\n\n\nThis free\, one-hour lunch-time session will give you a pause in the day to experience the benefits of practicing mindfulness. You will be guided through the basic principles of mindfulness and will sample a range of different practices. Over time these practices can help you build the capacity to experience life differently. Mindfulness can work for you as an individual and for your team or service.Bring your lunch for the mindfulness eating exercise. \n\n\n\nFacilitator\n\n\n\n\n\n\n\nRobert Marx is a clinical psychologist and psychotherapist and has been teaching mindfulness to patients and staff in the NHS for 18 years. He teaches Mindfulness Based Cognitive Therapy and Mindful Self-Compassion. He has been practising meditation for over 30 years. He is passionate about building compassionate cultures in organisations and about integrating relational and mindful approaches to work.
URL:https://sussexmindfulnesscentre.nhs.uk/event/moment-to-pause-free-online-lunchtime-mindfulness-session/
LOCATION:Online
CATEGORIES:Beginners,Introduction to mindfulness,Workplace
ATTACH;FMTTYPE=image/jpeg:https://sussexmindfulnesscentre.nhs.uk/wp-content/uploads/2023/10/learning_orange-jpg.webp
END:VEVENT
END:VCALENDAR