BEGIN:VCALENDAR
VERSION:2.0
PRODID:-//Sussex Mindfulness Centre - ECPv6.15.20//NONSGML v1.0//EN
CALSCALE:GREGORIAN
METHOD:PUBLISH
X-WR-CALNAME:Sussex Mindfulness Centre
X-ORIGINAL-URL:https://sussexmindfulnesscentre.nhs.uk
X-WR-CALDESC:Events for Sussex Mindfulness Centre
REFRESH-INTERVAL;VALUE=DURATION:PT1H
X-Robots-Tag:noindex
X-PUBLISHED-TTL:PT1H
BEGIN:VTIMEZONE
TZID:Europe/London
BEGIN:DAYLIGHT
TZOFFSETFROM:+0000
TZOFFSETTO:+0100
TZNAME:BST
DTSTART:20250330T010000
END:DAYLIGHT
BEGIN:STANDARD
TZOFFSETFROM:+0100
TZOFFSETTO:+0000
TZNAME:GMT
DTSTART:20251026T010000
END:STANDARD
BEGIN:DAYLIGHT
TZOFFSETFROM:+0000
TZOFFSETTO:+0100
TZNAME:BST
DTSTART:20260329T010000
END:DAYLIGHT
BEGIN:STANDARD
TZOFFSETFROM:+0100
TZOFFSETTO:+0000
TZNAME:GMT
DTSTART:20261025T010000
END:STANDARD
BEGIN:DAYLIGHT
TZOFFSETFROM:+0000
TZOFFSETTO:+0100
TZNAME:BST
DTSTART:20270328T010000
END:DAYLIGHT
BEGIN:STANDARD
TZOFFSETFROM:+0100
TZOFFSETTO:+0000
TZNAME:GMT
DTSTART:20271031T010000
END:STANDARD
END:VTIMEZONE
BEGIN:VEVENT
DTSTART;TZID=Europe/London:20260126T170000
DTEND;TZID=Europe/London:20260126T180000
DTSTAMP:20260424T140543
CREATED:20260106T180905Z
LAST-MODIFIED:20260108T085625Z
UID:10002973-1769446800-1769450400@sussexmindfulnesscentre.nhs.uk
SUMMARY:Mindful Self-Compassion teacher training information session
DESCRIPTION:Are you interested in teaching the eight-week Mindful Self-Compassion course? Or would you like to integrate mindfulness and self-compassion into your professional activity (i.e.\, psychotherapy\, coaching\, nursing\, teaching\, etc.)? Join this session to find out what’s involved.  \n\n\n\nWhat’s included\n\n\n\nThis session will provide all you need to know about the different steps leading to you being able to teach Mindful Self-Compassion. Zoe Shobbrook-Fisher\, who is one of the trainers on the teacher training course\, will be leading the session. The session will include a short overview\, after which there will be an opportunity to ask questions. \n\n\n\nBook your place\n\n\n\nBook your place by emailing spft.smc@nhs.net and you will be sent a joining link.
URL:https://sussexmindfulnesscentre.nhs.uk/event/mindful-self-compassion-teacher-training-information-session-2/
LOCATION:Online
CATEGORIES:mindful self-compassion TT,Teacher training,Teacher Training Information
ATTACH;FMTTYPE=image/jpeg:https://sussexmindfulnesscentre.nhs.uk/wp-content/uploads/2023/11/compassion_05-scaled.webp
END:VEVENT
END:VCALENDAR