BEGIN:VCALENDAR
VERSION:2.0
PRODID:-//Sussex Mindfulness Centre - ECPv6.15.20//NONSGML v1.0//EN
CALSCALE:GREGORIAN
METHOD:PUBLISH
X-WR-CALNAME:Sussex Mindfulness Centre
X-ORIGINAL-URL:https://sussexmindfulnesscentre.nhs.uk
X-WR-CALDESC:Events for Sussex Mindfulness Centre
REFRESH-INTERVAL;VALUE=DURATION:PT1H
X-Robots-Tag:noindex
X-PUBLISHED-TTL:PT1H
BEGIN:VTIMEZONE
TZID:Europe/London
BEGIN:DAYLIGHT
TZOFFSETFROM:+0000
TZOFFSETTO:+0100
TZNAME:BST
DTSTART:20250330T010000
END:DAYLIGHT
BEGIN:STANDARD
TZOFFSETFROM:+0100
TZOFFSETTO:+0000
TZNAME:GMT
DTSTART:20251026T010000
END:STANDARD
BEGIN:DAYLIGHT
TZOFFSETFROM:+0000
TZOFFSETTO:+0100
TZNAME:BST
DTSTART:20260329T010000
END:DAYLIGHT
BEGIN:STANDARD
TZOFFSETFROM:+0100
TZOFFSETTO:+0000
TZNAME:GMT
DTSTART:20261025T010000
END:STANDARD
BEGIN:DAYLIGHT
TZOFFSETFROM:+0000
TZOFFSETTO:+0100
TZNAME:BST
DTSTART:20270328T010000
END:DAYLIGHT
BEGIN:STANDARD
TZOFFSETFROM:+0100
TZOFFSETTO:+0000
TZNAME:GMT
DTSTART:20271031T010000
END:STANDARD
END:VTIMEZONE
BEGIN:VEVENT
DTSTART;TZID=Europe/London:20260522T090000
DTEND;TZID=Europe/London:20260522T170000
DTSTAMP:20260424T114959
CREATED:20251110T124453Z
LAST-MODIFIED:20260220T110539Z
UID:10002968-1779440400-1779469200@sussexmindfulnesscentre.nhs.uk
SUMMARY:Trauma-informed and effective mindfulness teaching
DESCRIPTION:This workshop draws on clinical research and lived experience to work with trauma in mindfulness-based work. \n\n\n\n\n \n\n\n\n \n\n\n\n \n\n\n\n \n\n\n\nWhat is covered?\n\n\n\nThis training will enable you to identify signs of trauma in your participants and provide practical ways of helping participants manage it. It will help you understand what challenges and adaptations you may need to make to your standard teaching to help support people with trauma histories.  \n\n\n\nWe approach the training from different perspectives: clinicians working in the field of trauma\, researchers discussing the evidence base for what we know is effective\, and service users sharing their experience of what worked and what didn’t work. \n\n\n\nWho is this for?\n\n\n\nThis masterclass is for those people working in the field of mindfulness. It is part of the core teacher training programmes. It is open to anybody who is trained or training to be mindfulness or mindful self-compassion teachers. \n\n\n\nPlease note\, current trainees on our teacher training courses (Foundation and Adapted Mindfulness Based Interventions) are automatically on the attendance list for this masterclass\, as it forms part of the syllabus. If this is you\, you do not need to book a place. \n\n\n\nThe facilitators\n\n\n\n\n\n\n\nRobert Marx\n\n\n\n\n\nRobert Marx\n\n\n\nRobert Marx is a clinical psychologist and psychotherapist and has been teaching mindfulness to patients and staff in the NHS for 18 years. He teaches Mindfulness Based Cognitive Therapy and Mindful Self-Compassion. He has been practising meditation for over 30 years. He is passionate about building compassionate cultures in organisations and about integrating relational and mindful approaches to work. \n\n\n\n\n\n\n\nClara Strauss\n\n\n\n\nRobert Marx\n\n\n\nClara is co-lead (Research) for the Sussex Mindfulness Centre. She is a consultant clinical psychologist\, mindfulness teacher and clinical researcher. In her research\, Clara is particularly interested in developing and evaluating new forms of mindfulness-based intervention (MBI)\, especially for those people who may not be willing or able to access MBCT. Along with other members of her research team\, Clara has been evaluating MBIs for people experiencing depression\, for people distressed by hearing voices and for people experiencing obsessive-compulsive disorder (OCD). This research has also included research with NHS staff\, university students and the wider population. \n\n\n\n\n\n\n\nRichard Gilpin\n\n\n\n\n\nRichard Gilpin\n\n\n\nRichard is a mindfulness teacher\, counsellor and cognitive-behavioural psychotherapist. He has trained extensively in mindfulness-based practices since the 1990s and has been facilitating MBCT courses since 2007. He is the author of two self-help books: Mindfulness for Black Dogs and Blue Days (2012) and Mindfulness for Unravelling Anxiety (2016). His Masters research on MBCT was published in 2008. \n\n\n\n\n\n \n\n\n\n\n\n\n\n\nCertificates\n\n\n\n If you would like a certificate of attendance\, you can request this after the event. \n\n\n\nBooking\n\n\n\nThe cost of the masterclass is £99. Please see the different options available in the booking form below. \n\n\n\nAs part of our equity\, diversity and inclusion policy\, we also have a limited number of concessionary tickets available on a first-come\, first-served basis. These are for people who are facing acute financial hardship and who would otherwise not be able to attend. To request a concession ticket please email spft.smc@nhs.net. \n\n\n\nWe are striving to make our courses accessible for all. If you have additional needs or learning styles\, please let us know so we can support you. 
URL:https://sussexmindfulnesscentre.nhs.uk/event/trauma-informed-and-effective-mindfulness-teaching-3/
LOCATION:Online
CATEGORIES:Masterclass,Teacher training
ATTACH;FMTTYPE=image/jpeg:https://sussexmindfulnesscentre.nhs.uk/wp-content/uploads/2023/07/research_green-jpg.webp
END:VEVENT
BEGIN:VEVENT
DTSTART;TZID=Europe/London:20260527T173000
DTEND;TZID=Europe/London:20260527T193000
DTSTAMP:20260424T114959
CREATED:20250904T114912Z
LAST-MODIFIED:20260224T164804Z
UID:10002864-1779903000-1779910200@sussexmindfulnesscentre.nhs.uk
SUMMARY:Deeper Mindfulness: Frame by Frame
DESCRIPTION:‘Deeper Mindfulness: exploring feeling tone Frame by Frame‘ is a new eight-week course developed for people who want to explore mindfulness more deeply. The online course runs on Wednesday evenings from 27 May 2026 and includes an optional one-day retreat on 20 June 2026. \n\n\n\nOverview​\n\n\n\nThis course allows people to explore an aspect of mindfulness that isn’t covered explicitly in other courses: ‘feeling tone.’ Feeling tone is a sense of the positive or negative that every human experiences and is the tipping point for our mood.  \n\n\n\nDeeper Mindfulness is informed by recent psychological findings that reveal that every waking moment\, our understanding of the world is dominated by imagining how we can take action within it\, coloured by what is called ‘feeling tone.’ Feeling tone is the moment-by-moment ‘read-out’ of how much a sensation\, thought\, or emotion feels pleasant\, unpleasant\, or neither. Based on this moment-by-moment ‘read out\,’ the body allocates its resources as it gears up for real or imagined action. This can prepare us well for action\, but it can also put us at risk of becoming exhausted without our realising it.  \n\n\n\nDuring the eight weekly sessions\, you will learn meditations that help you tune into feeling tone moment by moment\, frame by frame. This provides an opportunity to see more clearly both the tipping points for distress and exhaustion\, and also how to flourish by freeing yourself to appreciate life again\, even in the midst of difficulty. \n\n\n\nWho is the course for?\n\n\n\nThis course is designed for those who have already completed an eight-week mindfulness-based programme and want to explore mindfulness more deeply. Please note\, this courses is designed for the general public and may not be suitable for everyone. If you are experiencing serious mental health issues\, you should talk to your GP about being referred to the appropriate clinical service. \n\n\n\nWhen? \n\n\n\nWednesdays\, 5.30pm to 7.30pm\, starting 27 May and running until 15 July 2026. (3\, 10\, 17\, 24 June\, 1\, 8 July) \n\n\n\nWhere?\n\n\n\nOnline. The zoom link will be sent closer to the time of the course. \n\n\n\nThe format of the course\n\n\n\nThe course is delivered over eight weekly sessions\, each lasting two hours. Each session builds on what’s been introduced before\, so it’s important to attend all the sessions if possible. (If you know you’re going to miss a session\, please let your teacher know). \n\n\n\nYou’ll be in a group of up to 16 people\, led by one of our experienced mindfulness teachers. \n\n\n\nEach session begins with a short\, guided meditation\, then (with the exception of the first session) there’s a review and inquiry into the past week. The second half of the session introduces the theme for the week and includes a meditation. There’ll be space to review what you and others experienced or discovered during the practice. The sessions are followed by suggestions for home-based personal practice of around 20 minutes per day. This includes both recommended guided practices for the week\, and also ways to cultivate mindfulness in everyday life. \n\n\n\nYou’ll have access to guided practices and written materials to support each session. \n\n\n\nFacilitators\n\n\n\nWe have two experienced teachers leading this course. Apart from being experienced in many aspect of teaching mindfulness\, Taravajra and Bethan Roberts are supervisors and are key members of our team of teacher trainers\, leading courses for others who want to become teachers themselves. \n\n\n\n\n\nTaravajra\n\n\n\n\n\n\n\n\nTaravajra has been teaching mindfulness in Sussex since 2005 to community groups\, carers\, teachers and NHS staff. Taravajra gained a Masters degree in mindfulness-based approaches in 2010 at Bangor University. Since 2011\, he has been part of the core training team at Bangor\, teaching on the Masters programme and teacher training pathway in the English and Spanish speaking worlds. He holds a British Wheel of Yoga teaching diploma and is a Focusing practitioner. Since 2011 he has been one of the main trainers on the Sussex Mindfulness Centre’s teacher training programme. \n\n\n\n\n\n\nBethan Roberts\n\n\n\n\n\n\n\n\nBethan is one of the core trainers at the Mindfulness Network (MN) and Bangor University’s Centre for Mindfulness Research and Practice running teacher training retreats and offering supervision since 2015. She has also taught on the Masters programme in Mindfulness-based Approaches at Bangor University.  She has been teaching eight-week Mindfulness Based Stress Reduction courses since 2008 and has taught mindfulness in a variety of organisations including the NHS\, the Office for National Statistics\, the Intellectual Property Office\, the National Museum of Wales\, the Welsh Parliament\, Families First Projects and Marie Curie Hospice. She has also been teaching one-to one mindfulness courses on behalf of the MN and Bangor University since 2010. Bethan is also a Mental Health First Aid Instructor (approved in 2008) and has taught courses on mental health at Cardiff University\, as well running training sessions on mental health and wellbeing for a wide range of organisations across England and Wales.   \n\n\n\n\n\n\nHow to book\n\n\n\nPlease note\, we ask all those who book a place on this course to fill in an application form that will be sent to the facilitators.  \n\n\n\nThe eight-week course is £250\, with different options listed in the form below.  \n\n\n\nAs part of our equity\, diversity and inclusion policy\, we also have a limited number of concessionary tickets available on a first-come\, first-served basis. These are for people who are facing acute financial hardship and who would otherwise not be able to attend. To request a concession ticket please email spft.smc@nhs.net. \n\n\n\nWe are striving to make our courses accessible for all. If you have additional needs or learning styles\, please let us know so we can support you. 
URL:https://sussexmindfulnesscentre.nhs.uk/event/deeper-mindfulness-frame-by-frame-2/
CATEGORIES:Course,Teacher training
ATTACH;FMTTYPE=image/jpeg:https://sussexmindfulnesscentre.nhs.uk/wp-content/uploads/2024/09/learning_blue-jpg.avif
END:VEVENT
END:VCALENDAR