BEGIN:VCALENDAR
VERSION:2.0
PRODID:-//Sussex Mindfulness Centre - ECPv6.15.20//NONSGML v1.0//EN
CALSCALE:GREGORIAN
METHOD:PUBLISH
X-ORIGINAL-URL:https://sussexmindfulnesscentre.nhs.uk
X-WR-CALDESC:Events for Sussex Mindfulness Centre
REFRESH-INTERVAL;VALUE=DURATION:PT1H
X-Robots-Tag:noindex
X-PUBLISHED-TTL:PT1H
BEGIN:VTIMEZONE
TZID:Europe/London
BEGIN:DAYLIGHT
TZOFFSETFROM:+0000
TZOFFSETTO:+0100
TZNAME:BST
DTSTART:20230326T010000
END:DAYLIGHT
BEGIN:STANDARD
TZOFFSETFROM:+0100
TZOFFSETTO:+0000
TZNAME:GMT
DTSTART:20231029T010000
END:STANDARD
BEGIN:DAYLIGHT
TZOFFSETFROM:+0000
TZOFFSETTO:+0100
TZNAME:BST
DTSTART:20240331T010000
END:DAYLIGHT
BEGIN:STANDARD
TZOFFSETFROM:+0100
TZOFFSETTO:+0000
TZNAME:GMT
DTSTART:20241027T010000
END:STANDARD
BEGIN:DAYLIGHT
TZOFFSETFROM:+0000
TZOFFSETTO:+0100
TZNAME:BST
DTSTART:20250330T010000
END:DAYLIGHT
BEGIN:STANDARD
TZOFFSETFROM:+0100
TZOFFSETTO:+0000
TZNAME:GMT
DTSTART:20251026T010000
END:STANDARD
END:VTIMEZONE
BEGIN:VEVENT
DTSTART;TZID=Europe/London:20241023T100000
DTEND;TZID=Europe/London:20241023T163000
DTSTAMP:20260422T092934
CREATED:20240418T152858Z
LAST-MODIFIED:20240723T152808Z
UID:10002636-1729677600-1729701000@sussexmindfulnesscentre.nhs.uk
SUMMARY:Mindful movement masterclass
DESCRIPTION:The simple mention of mindful movement often generates a feeling tone: liking or disliking\, rarely neither.For many teachers\, it is their least preferred core practice to guide. Questions often arise about its purpose and place within the eight-week course. \n\n\n\n \n\n\n\nWhat is covered?\n\n\n\nChris Barker will guide you through a variety of approaches to mindful movement. This will help you find movements that resonate with you and feel authentic\, enabling you to find your own voice when you are guiding practices. \n\n\n\nWe will also explore the purpose and position of mindful movement within the eight-week course. The mind and body are more closely connected than we may initially think. Mindful movement provides an access point to begin to see personal patterns of reactivity. It exposes our relationship with ourselves\, how we approach life\, as well identifying moods and emotions that colour our beliefs and interpretations\, in the moment. \n\n\n\nWho is this for?\n\n\n\nThis masterclass is for both experienced and aspiring mindfulness teachers who can benefit from Chris’s knowledge and insights of mindful movement. Chris takes a fresh look at this topic based on his experience of teaching mindful movement for over twenty years. Chris draws on his own experience of teaching a variety of mindful based programmes to a wide range of people\, as well as bringing a grounded theoretical understanding. \n\n\n\nThe facilitator\n\n\n\nChris Barker \n\n\n\n\n\n\n\n\n\nChris Barker’s path into mindfulness was as a stressed Head of Physical Education in a large secondary school. Despite his initial reservations that it was just “yoga and meditation\, that I couldn’t see myself doing” he was persuaded by colleagues to give it a try. It changed his life. Not overnight\, but by allowing every drop of mindfulness\, squeezed into every frantic day\, to permeate through his previously sceptical being! \n\n\n\nChris predominantly shares mindfulness with cancer groups and leads on this both for the National Centre of Integrative Medicine (NCIM) as well as supporting fellow teachers. A qualified supervisor\, Chris also teaches Mindfulness for Life for the Sussex Mindfulness Centre\, NCIM and various counselling charities in the South-West of England\, where he lives. \n\n\n\nA recent mindfulness graduate from the University of Exeter\, Chris is well-placed to lead on mindful movement for the Sussex Mindfulness Centre at retreats and in this masterclass\, training a new generation of teachers. Having been in their shoes only several years ago\, enables Chris to break down this often under loved part of the eight-week course for trainees and experienced teachers alike. \n\n\n\n\n\nPracticalities\n\n\n\nA significant section of the morning will be engaging in mindful movement. To facilitate this\, it is helpful to have sufficient space to extend your arms in all directions while standing\, sitting or in floor movements. Loose clothes are always helpful as well as sufficient layers to retain body heat. As always\, clear guidance will be offered around tailoring the movements to meet the needs of your body. Finally\, as I say to all my participants ‘as long as you can hear me you don’t need to be able to see me’. This means you have the option to move away from the screen. \n\n\n\nCertificates\n\n\n\nThis is valid for ongoing personal development in mindfulness or as part of the Sussex Mindfulness Centre teacher training pathway. Certificates of attendance can be supplied on completion of the day’s training\, if requested. \n\n\n\nTicket prices\n\n\n\n\nGeneral admission: £99.00\n\n\n\nSussex Partnership Foundation Trust staff members: £50.00\n\n\n\nAlumni: Adapted MBI/Foundation/MBCT in NHS Talking Therapies (previous 2 years only): £30.00\n\n\n\nCurrent Adapted MBI/Foundation trainees (2024 cohort only): £15.00\n\n\n\nCurrent MBCT in NHS Talking Therapies trainees (2024 cohort only): £15.00\n\n\n\nSussex Mindfulness Centre-employed/contracted mindfulness teachers: £30.00\n\n\n\n\nPlease read our Terms and Conditions before booking your ticket: Terms and conditions – Sussex Mindfulness Centre
URL:https://sussexmindfulnesscentre.nhs.uk/event/mindfulness-movement-masterclass/
LOCATION:Online
CATEGORIES:Masterclass,Teacher training
ATTACH;FMTTYPE=image/webp:https://sussexmindfulnesscentre.nhs.uk/wp-content/uploads/2024/04/research_green-edited-e1714384685847.webp
END:VEVENT
BEGIN:VEVENT
DTSTART;TZID=Europe/London:20241004T093000
DTEND;TZID=Europe/London:20241004T163000
DTSTAMP:20260422T092934
CREATED:20240201T154859Z
LAST-MODIFIED:20240723T115253Z
UID:10002626-1728034200-1728059400@sussexmindfulnesscentre.nhs.uk
SUMMARY:Buddhist Foundations of Mindfulness
DESCRIPTION:This workshop explores the Buddhist origins and intentions of mindfulness practice. \n\n\n\n \n\n\n\n \n\n\n\nWhat is covered?\n\n\n\nEven though it is common to deliver secular mindfulness-based programmes\, many of the ideas in these programmes make more sense when we understand their origins and intentions. \n\n\n\nJohn Peacock is one of the few people who can expertly make this bridge and we are delighted to welcome him back again. \n\n\n\nWho is this for?\n\n\n\nThis masterclass is suitable for anyone involved in teaching\, or training to teach\, mindfulness; or anyone with a particular interest in the Buddhist underpinnings of mindfulness practice.  \n\n\n\nYou can join this online workshop from anywhere\, as long as you have a stable internet connection.   \n\n\n\nPlease note\, current trainees on our teacher training courses (Foundation and Adapted Mindfulness Based Interventions) are automatically on the attendance list for this masterclass\, as it forms part of the syllabus. If this is you\, you do not need to book a place. \n\n\n\nThe facilitator\n\n\n\n\n\nJohn Peacock\n\n\n\nJohn Peacock is an academic and a Buddhist practitioner of nearly fifty years. Trained initially in the Tibetan Gelukpa tradition in India\, he then spent time in Sri Lanka studying Theravāda. Following a doctorate in philosophy\, he taught Buddhist and Western philosophy as well as Buddhist studies at the University of Bristol. He went on to be an Associate Director of the Oxford Mindfulness Centre and co-direct the Master of Studies programme in Mindfulness-based Cognitive Therapy at the University of Oxford. John is now retired from academia and continues to teach meditation and courses on Buddhism and Western philosophy internationally. \n\n\n\n\n\n \n\n\n\nCertificates\n\n\n\nThis is valid for ongoing personal development in mindfulness or as part of the Sussex Mindfulness Centre teacher training pathway. Certificates of attendance can be supplied on completion of the day’s training\, if requested.
URL:https://sussexmindfulnesscentre.nhs.uk/event/buddhist-foundations-of-mindfulness-2/
LOCATION:Online
CATEGORIES:Masterclass,Teacher training
ATTACH;FMTTYPE=image/jpeg:https://sussexmindfulnesscentre.nhs.uk/wp-content/uploads/2024/01/mindfulness_training_01-scaled.webp
END:VEVENT
BEGIN:VEVENT
DTSTART;TZID=Europe/London:20240920T093000
DTEND;TZID=Europe/London:20240920T170000
DTSTAMP:20260422T092934
CREATED:20240118T115354Z
LAST-MODIFIED:20240311T102443Z
UID:10002624-1726824600-1726851600@sussexmindfulnesscentre.nhs.uk
SUMMARY:Mindful Self-Compassion teacher networking day with Chris Germer
DESCRIPTION:Chris Germer joins us for a Mindful Self-Compassion networking event in Brighton. All teachers trained to run the eight-week Mindful Self-Compassion course are invited to attend.  \n\n\n\nChris Germer will be with us to support the development of Mindful Self-Compassion (MSC) teachers. This is in addition to the compassion and burnout event which takes place the following day (Saturday 21st September 2024) and is open to everyone. This in-person networking event is open to all teachers trained to lead Mindful Self-Compassion courses based in the UK and Europe. The day will explore what teachers need personally and professionally. We will have a chance through practice and inquiry to consider how we might best resource ourselves.  \n\n\n\nSupported by Chris\, this is a great post-pandemic opportunity to see each other again and to replenish our connections and networks. We will take some time to think together about the future of Mindful Self-Compassion in this part of the world\, and consider what is needed to support MSC to enable it continue and thrive. \n\n\n\nChris Germer\n\n\n\n\n\n\n\nChris Germer PhD is a clinical psychologist and lecturer on psychiatry (part-time) at Harvard Medical School. He co-developed the Mindful Self-Compassion (MSC) program with Dr. Kristin Neff in 2010\, which has been taught to over 250\,000 people worldwide. They co-authored two books on MSC\, The Mindful Self-Compassion Workbook and Teaching the Mindful Self-Compassion Programme. \n\n\n\nDr. Germer spends most of his time lecturing and leading workshops around the world on mindfulness and self-compassion. He is the author of The Mindful Path to Self-Compassion and he co-edited two influential volumes on therapy: Mindfulness and Psychotherapy\, and Wisdom and Compassion in Psychotherapy. Dr. Germer is a founding faculty member of the Institute for Meditation and Psychotherapy\, Cambridge MA\, USA as well as the Center for Mindfulness and Compassion\, Harvard Medical School. He maintains a small\, online psychotherapy practice. www.chrisgermer.com www.centerformsc.org \n\n\n\nChris Germer is providing his time free. The ticket price of £25 will help us cover the venue costs. You will need to bring or buy your lunch and pay for accommodation\, if that’s needed.    \n\n\n\nYou can book your ticket here.
URL:https://sussexmindfulnesscentre.nhs.uk/event/mindful-self-compassion-teacher-networking-day-with-chris-germer/
LOCATION:Friends Meeting House\, Ship Street\, Brighton\, Sussex\, BN1 1AF\, United Kingdom
CATEGORIES:Compassion,Teacher training
ATTACH;FMTTYPE=image/png:https://sussexmindfulnesscentre.nhs.uk/wp-content/uploads/2023/12/Germer-photo.png
END:VEVENT
BEGIN:VEVENT
DTSTART;TZID=Europe/London:20240517T093000
DTEND;TZID=Europe/London:20240517T163000
DTSTAMP:20260422T092934
CREATED:20230713T131321Z
LAST-MODIFIED:20240130T163002Z
UID:10000024-1715938200-1715963400@sussexmindfulnesscentre.nhs.uk
SUMMARY:Trauma-informed and effective mindfulness teaching
DESCRIPTION:This workshop draws on clinical research and lived experience to work with trauma in mindfulness-based work. \n\n\n\n  \n\n\n\n \n\n\n\nWhat is covered?\n\n\n\nThis training will enable you to identify signs of trauma in your participants and provide practical ways of helping participants manage it. It will help you understand what challenges and adaptations you may need to make to your standard teaching to help support people with trauma histories.  \n\n\n\nWe approach the training from different perspectives: clinicians working in the field of trauma\, researchers discussing the evidence base for what we know is effective\, and service users sharing their experience of what worked and what didn’t work. \n\n\n\nWho is this for?\n\n\n\nThis masterclass is for those people working in the field of mindfulness. It is part of the core teacher training programmes. It is open to anybody who is trained or training to be mindfulness or mindful self-compassion teachers. \n\n\n\nPlease note\, current trainees on our teacher training courses (Foundation and Adapted Mindfulness Based Interventions) are automatically on the attendance list for this masterclass\, as it forms part of the syllabus. If this is you\, you do not need to book a place. \n\n\n\nThe facilitators\n\n\n\n\n\nRobert Marx\n\n\n\nRobert Marx is a clinical psychologist and psychotherapist and has been teaching mindfulness to patients and staff in the NHS for 18 years. He teaches Mindfulness Based Cognitive Therapy and Mindful Self-Compassion. He has been practising meditation for over 30 years. He is passionate about building compassionate cultures in organisations and about integrating relational and mindful approaches to work. \n\n\n\n \n\n\n\n\n\nProfessor Clara Strauss\n\n\n\nClara Strauss is a consultant clinical psychologist\, mindfulness teacher and clinical researcher. In her research\, Clara is particularly interested in developing and evaluating new forms of mindfulness-based intervention (MBI)\, especially for those people who may not be willing or able to access MBCT. Along with other members of her research team\, Clara has been evaluating MBIs for people experiencing depression\, for people distressed by hearing voices and for people experiencing obsessive-compulsive disorder. This research has also included research with NHS staff\, university students and the wider population. \n\n\n\n \n\n\n\nRichard Gilpin \n\n\n\nRichard is a mindfulness facilitator\, counsellor and Cognitive Behaviour Therapy therapist. He has trained extensively in mindfulness-based practices since the 1990s and has been facilitating MBCT courses since 2007. He is the author of two self-help books: Mindfulness for Black Dogs and Blue Days (2012) and Mindfulness for Unravelling Anxiety (2016). He also trained and practised with several Buddhist teachers\, set up and ran practice centres\, and facilitated groups and courses dedicated to mindful living. \n\n\n\n  \n\n\n\nCertificates\n\n\n\nCertificates of attendance are available after the event.
URL:https://sussexmindfulnesscentre.nhs.uk/event/trauma-informed-and-effective-mindfulness-teaching/
LOCATION:Online
CATEGORIES:Masterclass,Teacher training
ATTACH;FMTTYPE=image/jpeg:https://sussexmindfulnesscentre.nhs.uk/wp-content/uploads/2023/07/research_green-jpg.webp
END:VEVENT
END:VCALENDAR