BEGIN:VCALENDAR
VERSION:2.0
PRODID:-//Sussex Mindfulness Centre - ECPv6.15.14//NONSGML v1.0//EN
CALSCALE:GREGORIAN
METHOD:PUBLISH
X-WR-CALNAME:Sussex Mindfulness Centre
X-ORIGINAL-URL:https://sussexmindfulnesscentre.nhs.uk
X-WR-CALDESC:Events for Sussex Mindfulness Centre
REFRESH-INTERVAL;VALUE=DURATION:PT1H
X-Robots-Tag:noindex
X-PUBLISHED-TTL:PT1H
BEGIN:VTIMEZONE
TZID:Europe/London
BEGIN:DAYLIGHT
TZOFFSETFROM:+0000
TZOFFSETTO:+0100
TZNAME:BST
DTSTART:20220327T010000
END:DAYLIGHT
BEGIN:STANDARD
TZOFFSETFROM:+0100
TZOFFSETTO:+0000
TZNAME:GMT
DTSTART:20221030T010000
END:STANDARD
BEGIN:DAYLIGHT
TZOFFSETFROM:+0000
TZOFFSETTO:+0100
TZNAME:BST
DTSTART:20230326T010000
END:DAYLIGHT
BEGIN:STANDARD
TZOFFSETFROM:+0100
TZOFFSETTO:+0000
TZNAME:GMT
DTSTART:20231029T010000
END:STANDARD
BEGIN:DAYLIGHT
TZOFFSETFROM:+0000
TZOFFSETTO:+0100
TZNAME:BST
DTSTART:20240331T010000
END:DAYLIGHT
BEGIN:STANDARD
TZOFFSETFROM:+0100
TZOFFSETTO:+0000
TZNAME:GMT
DTSTART:20241027T010000
END:STANDARD
BEGIN:DAYLIGHT
TZOFFSETFROM:+0000
TZOFFSETTO:+0100
TZNAME:BST
DTSTART:20250330T010000
END:DAYLIGHT
BEGIN:STANDARD
TZOFFSETFROM:+0100
TZOFFSETTO:+0000
TZNAME:GMT
DTSTART:20251026T010000
END:STANDARD
BEGIN:DAYLIGHT
TZOFFSETFROM:+0000
TZOFFSETTO:+0100
TZNAME:BST
DTSTART:20260329T010000
END:DAYLIGHT
BEGIN:STANDARD
TZOFFSETFROM:+0100
TZOFFSETTO:+0000
TZNAME:GMT
DTSTART:20261025T010000
END:STANDARD
END:VTIMEZONE
BEGIN:VEVENT
DTSTART;TZID=Europe/London:20250708T123000
DTEND;TZID=Europe/London:20250708T133000
DTSTAMP:20260421T112852
CREATED:20250429T082819Z
LAST-MODIFIED:20250429T093505Z
UID:10002834-1751977800-1751981400@sussexmindfulnesscentre.nhs.uk
SUMMARY:Mindfulness teacher training information session
DESCRIPTION:Are you interested in teaching Mindfulness Based Cognitive Therapy or Mindfulness Based Stress Reduction? Or perhaps you would like to include mindfulness-based interventions in your current work with clients? Either way\, this session will provide all you need to know about various training options with us. \n\n\n\nWhat’s included\n\n\n\nThe session will be led by Ruth Sequeira\, Sussex Mindfulness Centre’s teacher. It will include a short presentation\, and you will have the opportunity to get your questions answered. \n\n\n\nBook your place\n\n\n\nBook your place by emailing spft.smc@nhs.net and you will be sent a joining link.
URL:https://sussexmindfulnesscentre.nhs.uk/event/mindfulness-teacher-training-information-session-13/
LOCATION:Online
CATEGORIES:Teacher Training Information,Train to Teach
ATTACH;FMTTYPE=image/jpeg:https://sussexmindfulnesscentre.nhs.uk/wp-content/uploads/2023/09/train_blue-jpg.webp
END:VEVENT
BEGIN:VEVENT
DTSTART;TZID=Europe/London:20241126T173000
DTEND;TZID=Europe/London:20241126T183000
DTSTAMP:20260421T112852
CREATED:20240919T142232Z
LAST-MODIFIED:20250429T093022Z
UID:10002731-1732642200-1732645800@sussexmindfulnesscentre.nhs.uk
SUMMARY:Mindfulness teacher training information session
DESCRIPTION:Are you interested in teaching Mindfulness Based Cognitive Therapy or Mindfulness Based Stress Reduction? Or perhaps you would like to include mindfulness-based interventions in your current work with clients? Either way\, this session will provide all you need to know about various training options with us. \n\n\n\nWhat’s included\n\n\n\nThe session will be led by Fergal Jones\, Sussex Mindfulness Centre’s teacher training convenor. It will include a short presentation\, and you will have the opportunity to get your questions answered. \n\n\n\nBook your place\n\n\n\nBook your place by emailing smc@spft.nhs.uk\, with Teacher Training Information Session in the Subject and you will be sent a joining link.
URL:https://sussexmindfulnesscentre.nhs.uk/event/mindfulness-teacher-training-information-session-11/
LOCATION:Online
CATEGORIES:Train to Teach
ATTACH;FMTTYPE=image/jpeg:https://sussexmindfulnesscentre.nhs.uk/wp-content/uploads/2023/09/train_blue-jpg.webp
END:VEVENT
BEGIN:VEVENT
DTSTART;TZID=Europe/London:20241118T130000
DTEND;TZID=Europe/London:20241118T140000
DTSTAMP:20260421T112852
CREATED:20240919T142342Z
LAST-MODIFIED:20240919T142343Z
UID:10002730-1731934800-1731938400@sussexmindfulnesscentre.nhs.uk
SUMMARY:Mindfulness teacher training information session
DESCRIPTION:Are you interested in teaching Mindfulness Based Cognitive Therapy or Mindfulness Based Stress Reduction? Or perhaps you would like to include mindfulness-based interventions in your current work with clients? Either way\, this session will provide all you need to know about various training options with us. \n\n\n\nWhat’s included\n\n\n\nThe session will be led by Ruth Sequeira\, a leading mindfulness teacher at Sussex Mindfulness Centre’s teacher training convenor. It will include a short presentation\, and you will have the opportunity to get your questions answered. \n\n\n\nBook your place\n\n\n\nBook your place by emailing smc@spft.nhs.uk\, with Teacher Training Information Session in the Subject and you will be sent a joining link.
URL:https://sussexmindfulnesscentre.nhs.uk/event/mindfulness-teacher-training-information-session-12/
LOCATION:Online
CATEGORIES:Train to Teach
ATTACH;FMTTYPE=image/jpeg:https://sussexmindfulnesscentre.nhs.uk/wp-content/uploads/2023/09/train_blue-jpg.webp
END:VEVENT
BEGIN:VEVENT
DTSTART;TZID=Europe/London:20241104T180000
DTEND;TZID=Europe/London:20241104T190000
DTSTAMP:20260421T112852
CREATED:20240917T134354Z
LAST-MODIFIED:20240917T135717Z
UID:10002729-1730743200-1730746800@sussexmindfulnesscentre.nhs.uk
SUMMARY:Mindfulness teacher training information session
DESCRIPTION:Are you interested in teaching Mindfulness Based Cognitive Therapy or Mindfulness Based Stress Reduction? Or perhaps you would like to include mindfulness-based interventions in your current work with clients? Either way\, this session will provide all you need to know about various training options with us. \n\n\n\nWhat’s included\n\n\n\nThe session will be led by Fergal Jones\, Sussex Mindfulness Centre’s teacher training convenor. It will include a short presentation\, and you will have the opportunity to get your questions answered. \n\n\n\nBook your place\n\n\n\nBook your place by emailing smc@spft.nhs.uk\, with Teacher Training Information Session in the Subject and you will be sent a joining link.
URL:https://sussexmindfulnesscentre.nhs.uk/event/mindfulness-teacher-training-information/
LOCATION:Online
CATEGORIES:Train to Teach
ATTACH;FMTTYPE=image/jpeg:https://sussexmindfulnesscentre.nhs.uk/wp-content/uploads/2023/09/train_blue-jpg.webp
END:VEVENT
BEGIN:VEVENT
DTSTART;TZID=Europe/London:20241029T130000
DTEND;TZID=Europe/London:20241029T140000
DTSTAMP:20260421T112852
CREATED:20240917T093601Z
LAST-MODIFIED:20241025T131051Z
UID:10002725-1730206800-1730210400@sussexmindfulnesscentre.nhs.uk
SUMMARY:Mindfulness teacher training information session
DESCRIPTION:Are you interested in teaching Mindfulness Based Cognitive Therapy or Mindfulness Based Stress Reduction? Or perhaps you would like to include mindfulness-based interventions in your current work with clients? Either way\, this session will provide all you need to know about various training options with us. \n\n\n\nWhat’s included\n\n\n\nThe session will be led by Fergal Jones\, Sussex Mindfulness Centre’s teacher training convenor. It will include a short presentation\, and you will have the opportunity to get your questions answered. \n\n\n\nBook your place\n\n\n\nBook your place by emailing spft.smc@nhs.net\, with Teacher Training Information Session in the Subject and you will be sent a joining link.
URL:https://sussexmindfulnesscentre.nhs.uk/event/mindfulness-teacher-training-information-session-10/
LOCATION:Online
CATEGORIES:Train to Teach
ATTACH;FMTTYPE=image/jpeg:https://sussexmindfulnesscentre.nhs.uk/wp-content/uploads/2023/09/train_blue-jpg.webp
END:VEVENT
BEGIN:VEVENT
DTSTART;TZID=Europe/London:20241008T130000
DTEND;TZID=Europe/London:20241008T140000
DTSTAMP:20260421T112852
CREATED:20240723T154239Z
LAST-MODIFIED:20240723T154239Z
UID:10002697-1728392400-1728396000@sussexmindfulnesscentre.nhs.uk
SUMMARY:Mindfulness teacher training information session
DESCRIPTION:Are you interested in teaching Mindfulness Based Cognitive Therapy or Mindfulness Based Stress Reduction? Or perhaps you would like to include mindfulness-based interventions in your current work with clients? Either way\, this session will provide all you need to know about various training options with us. \n\n\n\nWhat’s included\n\n\n\nThe session will be led by one of the Sussex Mindfulness Centre’s lead teachers. It will include a short presentation\, and you will have the opportunity to get your questions answered.      \n\n\n\nBook your place\n\n\n\nBook your place by emailing smc@spft.nhs.uk\, with Teacher Training Information Session in the Subject and you will be sent a joining link.
URL:https://sussexmindfulnesscentre.nhs.uk/event/mindfulness-teacher-training-information-session-9/
LOCATION:Online
CATEGORIES:Train to Teach
ATTACH;FMTTYPE=image/jpeg:https://sussexmindfulnesscentre.nhs.uk/wp-content/uploads/2023/09/train_blue-jpg.webp
END:VEVENT
BEGIN:VEVENT
DTSTART;TZID=Europe/London:20240930T173000
DTEND;TZID=Europe/London:20240930T183000
DTSTAMP:20260421T112852
CREATED:20240723T154105Z
LAST-MODIFIED:20240730T095400Z
UID:10002693-1727717400-1727721000@sussexmindfulnesscentre.nhs.uk
SUMMARY:Mindfulness teacher training information session
DESCRIPTION:Are you interested in teaching Mindfulness Based Cognitive Therapy or Mindfulness Based Stress Reduction? Or perhaps you would like to include mindfulness-based interventions in your current work with clients? Either way\, this session will provide all you need to know about various training options with us. \n\n\n\nWhat’s included\n\n\n\nThe session will be led by one of the Sussex Mindfulness Centre’s lead teachers. It will include a short presentation\, and you will have the opportunity to get your questions answered.      \n\n\n\nBook your place\n\n\n\nBook your place by emailing smc@spft.nhs.uk\, with Teacher Training Information Session in the Subject and you will be sent a joining link.
URL:https://sussexmindfulnesscentre.nhs.uk/event/mindfulness-teacher-training-information-session-8/
LOCATION:Online
CATEGORIES:Train to Teach
ATTACH;FMTTYPE=image/jpeg:https://sussexmindfulnesscentre.nhs.uk/wp-content/uploads/2023/09/train_blue-jpg.webp
END:VEVENT
BEGIN:VEVENT
DTSTART;TZID=Europe/London:20240819T123000
DTEND;TZID=Europe/London:20240819T133000
DTSTAMP:20260421T112852
CREATED:20240723T153529Z
LAST-MODIFIED:20240730T091337Z
UID:10002696-1724070600-1724074200@sussexmindfulnesscentre.nhs.uk
SUMMARY:Mindfulness teacher training information session
DESCRIPTION:Are you interested in teaching Mindfulness Based Cognitive Therapy or Mindfulness Based Stress Reduction? Or perhaps you would like to include mindfulness-based interventions in your current work with clients? Either way\, this session will provide all you need to know about various training options with us. \n\n\n\nWhat’s included \n\n\n\nThe session will be led Fergal Jones\, the Sussex Mindfulness Centre’s teacher training convenor. It will include a short presentation\, and you will have the opportunity to get your questions answered. \n\n\n\nBook your place\n\n\n\nBook your place by emailing smc@spft.nhs.uk\, with Teacher Training Information Session in the Subject and you will be sent a joining link.
URL:https://sussexmindfulnesscentre.nhs.uk/event/mindfulness-teacher-training-information-session-7/
LOCATION:Online
CATEGORIES:Train to Teach
ATTACH;FMTTYPE=image/jpeg:https://sussexmindfulnesscentre.nhs.uk/wp-content/uploads/2023/09/train_blue-jpg.webp
END:VEVENT
BEGIN:VEVENT
DTSTART;TZID=Europe/London:20240717T123000
DTEND;TZID=Europe/London:20240717T133000
DTSTAMP:20260421T112852
CREATED:20240423T111408Z
LAST-MODIFIED:20240423T111410Z
UID:10002641-1721219400-1721223000@sussexmindfulnesscentre.nhs.uk
SUMMARY:Mindfulness teacher training information session
DESCRIPTION:Are interested in teaching Mindfulness Based Cognitive Therapy or Mindfulness Based Stress Reduction? Or perhaps you would like to include mindfulness-based interventions in your current work with clients? Either way\, this session will provide all you need to know about various training options with us.    \n\n\n\n \n\n\n\nThe session will be led by one of the Sussex Mindfulness Centre’s lead teachers. It will include a short presentation\, and you will have the opportunity to get your questions answered.      \n\n\n\nBook your place\n\n\n\nBook your place by emailing smc@spft.nhs.uk\, with Teacher Training Information Session in the Subject and you will be sent a joining link.
URL:https://sussexmindfulnesscentre.nhs.uk/event/mindfulness-teacher-training-information-session-6/
LOCATION:Online
CATEGORIES:Train to Teach
ATTACH;FMTTYPE=image/jpeg:https://sussexmindfulnesscentre.nhs.uk/wp-content/uploads/2023/09/train_blue-jpg.webp
END:VEVENT
BEGIN:VEVENT
DTSTART;TZID=Europe/London:20240605T170000
DTEND;TZID=Europe/London:20240605T180000
DTSTAMP:20260421T112852
CREATED:20240423T110925Z
LAST-MODIFIED:20240423T110927Z
UID:10002640-1717606800-1717610400@sussexmindfulnesscentre.nhs.uk
SUMMARY:Mindfulness teacher training information session
DESCRIPTION:Are interested in teaching Mindfulness Based Cognitive Therapy or Mindfulness Based Stress Reduction. Or perhaps you would like to include mindfulness-based interventions in your current work with clients. Either way\, this session will provide all you need to know about various training options with us.    \n\n\n\n \n\n\n\nThe session will be led by one of the Sussex Mindfulness Centre’s lead teachers. It will include a short presentation\, and you will have the opportunity to get your questions answered.      \n\n\n\nBook your place\n\n\n\nBook your place by emailing smc@spft.nhs.uk\, with Teacher Training Information Session in the Subject and you will be sent a joining link.
URL:https://sussexmindfulnesscentre.nhs.uk/event/mindfulness-teacher-training-information-session-5/
LOCATION:Online
CATEGORIES:Train to Teach
ATTACH;FMTTYPE=image/jpeg:https://sussexmindfulnesscentre.nhs.uk/wp-content/uploads/2023/09/train_blue-jpg.webp
END:VEVENT
BEGIN:VEVENT
DTSTART;TZID=Europe/London:20231122T173000
DTEND;TZID=Europe/London:20231122T183000
DTSTAMP:20260421T112852
CREATED:20231113T121414Z
LAST-MODIFIED:20231113T121415Z
UID:10002038-1700674200-1700677800@sussexmindfulnesscentre.nhs.uk
SUMMARY:Mindfulness teacher training information session
DESCRIPTION:Whether you are interested in teaching Mindfulness Based Cognitive Therapy\, Mindfulness Based Stress Reduction or adapted mindfulness-based interventions\, this session will provide all you need to know about training with us.    \n\n\n\n \n\n\n\nThe session will be led by one of the Sussex Mindfulness Centre’s lead teachers. It will include a short presentation\, and you will have the opportunity to get your questions answered.      \n\n\n\nBook your place\n\n\n\nBook your place by emailing smc@spft.nhs.uk\, with Teacher Training Information Session in the Subject and you will be sent a joining link.
URL:https://sussexmindfulnesscentre.nhs.uk/event/mindfulness-teacher-training-information-session-4/
LOCATION:Online
CATEGORIES:Train to Teach
ATTACH;FMTTYPE=image/jpeg:https://sussexmindfulnesscentre.nhs.uk/wp-content/uploads/2023/09/train_blue-jpg.webp
END:VEVENT
BEGIN:VEVENT
DTSTART;TZID=Europe/London:20231109T173000
DTEND;TZID=Europe/London:20231109T183000
DTSTAMP:20260421T112852
CREATED:20230914T145744Z
LAST-MODIFIED:20230918T101558Z
UID:10001774-1699551000-1699554600@sussexmindfulnesscentre.nhs.uk
SUMMARY:Mindfulness teacher training information session
DESCRIPTION:Whether you are interested in teaching Mindfulness Based Cognitive Therapy\, Mindfulness Based Stress Reduction or adapted mindfulness-based interventions\, this session will provide all you need to know about training with us.    \n\n\n\n \n\n\n\nThe session will be led by one of the Sussex Mindfulness Centre’s lead teachers. It will include a short presentation\, and you will have the opportunity to get your questions answered.      \n\n\n\nBook your place\n\n\n\nBook your place by emailing smc@spft.nhs.uk\, with Teacher Training Information Session in the Subject and you will be sent a joining link.
URL:https://sussexmindfulnesscentre.nhs.uk/event/mindfulness-teacher-training-information-session-3/
LOCATION:Online
CATEGORIES:Train to Teach
ATTACH;FMTTYPE=image/jpeg:https://sussexmindfulnesscentre.nhs.uk/wp-content/uploads/2023/09/train_blue-jpg.webp
END:VEVENT
BEGIN:VEVENT
DTSTART;TZID=Europe/London:20231026T130000
DTEND;TZID=Europe/London:20231026T140000
DTSTAMP:20260421T112852
CREATED:20230914T145235Z
LAST-MODIFIED:20231012T102643Z
UID:10001773-1698325200-1698328800@sussexmindfulnesscentre.nhs.uk
SUMMARY:Mindfulness teacher training information session
DESCRIPTION:Whether you are interested in teaching Mindfulness Based Cognitive Therapy\, Mindfulness Based Stress Reduction or adapted mindfulness-based interventions\, this session will provide all you need to know about training with us.    \n\n\n\n \n\n\n\nThe session will be led by one of the Sussex Mindfulness Centre’s lead teachers. It will include a short presentation\, and you will have the opportunity to get your questions answered.      \n\n\n\nBook your place\n\n\n\nBook your place by emailing smc@spft.nhs.uk\, with Teacher Training Information Session in the Subject and you will be sent a joining link.
URL:https://sussexmindfulnesscentre.nhs.uk/event/mindfulness-teacher-training-information-session-2/
LOCATION:Online
CATEGORIES:Train to Teach
ATTACH;FMTTYPE=image/jpeg:https://sussexmindfulnesscentre.nhs.uk/wp-content/uploads/2023/09/train_blue-jpg.webp
END:VEVENT
BEGIN:VEVENT
DTSTART;TZID=Europe/London:20231003T180000
DTEND;TZID=Europe/London:20231003T190000
DTSTAMP:20260421T112852
CREATED:20230914T144232Z
LAST-MODIFIED:20230914T144917Z
UID:10001772-1696356000-1696359600@sussexmindfulnesscentre.nhs.uk
SUMMARY:Mindfulness teacher training information session
DESCRIPTION:Whether you are interested in teaching Mindfulness Based Cognitive Therapy\, Mindfulness Based Stress Reduction or adapted mindfulness-based interventions\, this session will provide all you need to know about training with us.    \n\n\n\n \n\n\n\nThe session will be led by one of the Sussex Mindfulness Centre’s lead teachers. It will include a short presentation\, and you will have the opportunity to get your questions answered.      \n\n\n\nBook your place\n\n\n\nBook your place by emailing smc@spft.nhs.uk\, with Teacher Training Information Session in the Subject and you will be sent a joining link.
URL:https://sussexmindfulnesscentre.nhs.uk/event/mindfulness-teacher-training-information-session/
LOCATION:Online
CATEGORIES:Train to Teach
ATTACH;FMTTYPE=image/jpeg:https://sussexmindfulnesscentre.nhs.uk/wp-content/uploads/2023/09/train_blue-jpg.webp
END:VEVENT
BEGIN:VEVENT
DTSTART;TZID=Europe/London:20230914T180000
DTEND;TZID=Europe/London:20230914T200000
DTSTAMP:20260421T112852
CREATED:20230726T084655Z
LAST-MODIFIED:20230904T131011Z
UID:10001687-1694714400-1694721600@sussexmindfulnesscentre.nhs.uk
SUMMARY:Mindfulness Based Cognitive Therapy course: Thursday evenings
DESCRIPTION:If you are interested in teaching mindfulness\, the Sussex Mindfulness Centre now offers the eight-week mindfulness-based cognitive therapy (MBCT) course to the public\, as a first step in the training pathway. If you go on to train with us\, you will get the full £250 course fee deducted from your teacher training fees.   \n\n\n\nOverview​\n\n\n\nMindfulness Based Cognitive Therapy (MBCT) combines mindfulness practices and cognitive-behavioural techniques to help reduce depression. There is increasing evidence that shows MBCT could be effective for other mental health issues and to improve wellbeing and resilience. \n\n\n\nThe eight-week course helps participants develop greater awareness of their thoughts\, emotions\, and experiences which in turn helps cultivate resilience and reduce depression and anxiety. Mindfulness Based Cognitive Therapy (MBCT) was designed specifically to help people who experience repeated episodes of depression to prevent relapse. MBCT is now recognised as an effective treatment for existing mild to moderate depression (not just to prevent relapse) and also helps improve wellbeing and resilience. Find out more about Mindfulness Based Cognitive Therapy here. \n\n\n\nThe format of the course?\n\n\n\n\nTwo-hour orientation session at the start to help you decide if the course is right for you\n\n\n\nEight weekly two-hour classes including mindfulness practices\, discussion and exercises\n\n\n\nDaily meditation home practice of between 20 to 40 minutes\n\n\n\n\nWhen? \n\n\n\nThursday evenings 18.00 to 20.00 UK time\, starting 14 September (with an orientation session) to 15 November 2023 (no session on 12 October). \n\n\n\nWhere?\n\n\n\nOnline. You will get Zoom log-in details when your place is confirmed.  \n\n\n\nFacilitator \n\n\n\nNicky Mouat \n\n\n\nHow to book\n\n\n\nPlease apply by filling in this application form. You can also pay for the course by clicking the link below.  \n\n\n\nBook your ticket here
URL:https://sussexmindfulnesscentre.nhs.uk/event/mindfulness-based-cognitive-therapy-course-thursday-evenings/
LOCATION:Online
CATEGORIES:Course,Mindfulness Based Cognitive Therapy,Train to Teach
ATTACH;FMTTYPE=image/jpeg:https://sussexmindfulnesscentre.nhs.uk/wp-content/uploads/2023/07/8-jpg.webp
END:VEVENT
BEGIN:VEVENT
DTSTART;TZID=Europe/London:20230703T100000
DTEND;TZID=Europe/London:20230703T110000
DTSTAMP:20260421T112852
CREATED:20230615T124816Z
LAST-MODIFIED:20230629T083143Z
UID:10000022-1688378400-1688382000@sussexmindfulnesscentre.nhs.uk
SUMMARY:Teacher training information session
DESCRIPTION:Interested in applying to the Foundation in Mindfulness-Based Approaches (MBCT/MBSR) training? \n\n\n\nMeet the teachers and find out more at our teacher training information sessions. \n\n\n\nRegister to attend by emailing smc@spft.nhs.uk
URL:https://sussexmindfulnesscentre.nhs.uk/event/teacher-training-information-session/2023-07-03/
CATEGORIES:Train to Teach
ATTACH;FMTTYPE=image/png:https://sussexmindfulnesscentre.nhs.uk/wp-content/uploads/2023/05/events.png
END:VEVENT
END:VCALENDAR